BEGIN:VCALENDAR
VERSION:2.0
PRODID:-//Olds College Faculty Association - ECPv6.2.4//NONSGML v1.0//EN
CALSCALE:GREGORIAN
METHOD:PUBLISH
X-ORIGINAL-URL:https://staging.ocfaonline.com
X-WR-CALDESC:Events for Olds College Faculty Association
REFRESH-INTERVAL;VALUE=DURATION:PT1H
X-Robots-Tag:noindex
X-PUBLISHED-TTL:PT1H
BEGIN:VTIMEZONE
TZID:UTC
BEGIN:STANDARD
TZOFFSETFROM:+0000
TZOFFSETTO:+0000
TZNAME:UTC
DTSTART:20280101T000000
END:STANDARD
END:VTIMEZONE
BEGIN:VEVENT
DTSTART;VALUE=DATE:20280209
DTEND;VALUE=DATE:20280210
DTSTAMP:20260419T161710
CREATED:20230830T040313Z
LAST-MODIFIED:20230830T040313Z
UID:10000090-1833667200-1833753599@staging.ocfaonline.com
SUMMARY:OCFA Regular Meetings - Wednesdays
DESCRIPTION:
URL:https://staging.ocfaonline.com/event/ocfa-regular-meetings-wednesdays/2028-02-09/
END:VEVENT
BEGIN:VEVENT
DTSTART;VALUE=DATE:20280412
DTEND;VALUE=DATE:20280413
DTSTAMP:20260419T161710
CREATED:20230830T040313Z
LAST-MODIFIED:20230830T040313Z
UID:10000091-1839110400-1839196799@staging.ocfaonline.com
SUMMARY:OCFA Regular Meetings - Wednesdays
DESCRIPTION:
URL:https://staging.ocfaonline.com/event/ocfa-regular-meetings-wednesdays/2028-04-12/
END:VEVENT
BEGIN:VEVENT
DTSTART;VALUE=DATE:20280614
DTEND;VALUE=DATE:20280615
DTSTAMP:20260419T161710
CREATED:20230830T040313Z
LAST-MODIFIED:20230830T040313Z
UID:10000092-1844553600-1844639999@staging.ocfaonline.com
SUMMARY:OCFA Regular Meetings - Wednesdays
DESCRIPTION:
URL:https://staging.ocfaonline.com/event/ocfa-regular-meetings-wednesdays/2028-06-14/
END:VEVENT
BEGIN:VEVENT
DTSTART;VALUE=DATE:20280809
DTEND;VALUE=DATE:20280810
DTSTAMP:20260419T161710
CREATED:20230830T040313Z
LAST-MODIFIED:20230830T040313Z
UID:10000093-1849392000-1849478399@staging.ocfaonline.com
SUMMARY:OCFA Regular Meetings - Wednesdays
DESCRIPTION:
URL:https://staging.ocfaonline.com/event/ocfa-regular-meetings-wednesdays/2028-08-09/
END:VEVENT
END:VCALENDAR