BEGIN:VCALENDAR
VERSION:2.0
PRODID:-//Olds College Faculty Association - ECPv6.2.4//NONSGML v1.0//EN
CALSCALE:GREGORIAN
METHOD:PUBLISH
X-WR-CALNAME:Olds College Faculty Association
X-ORIGINAL-URL:https://staging.ocfaonline.com
X-WR-CALDESC:Events for Olds College Faculty Association
REFRESH-INTERVAL;VALUE=DURATION:PT1H
X-Robots-Tag:noindex
X-PUBLISHED-TTL:PT1H
BEGIN:VTIMEZONE
TZID:UTC
BEGIN:STANDARD
TZOFFSETFROM:+0000
TZOFFSETTO:+0000
TZNAME:UTC
DTSTART:20280101T000000
END:STANDARD
END:VTIMEZONE
BEGIN:VEVENT
DTSTART;VALUE=DATE:20280207
DTEND;VALUE=DATE:20280208
DTSTAMP:20260419T161650
CREATED:20230830T040756Z
LAST-MODIFIED:20230830T040756Z
UID:10000151-1833494400-1833580799@staging.ocfaonline.com
SUMMARY:Faculty Professional Development Meetings
DESCRIPTION:
URL:https://staging.ocfaonline.com/event/faculty-professional-development-meetings/2028-02-07/
END:VEVENT
BEGIN:VEVENT
DTSTART;VALUE=DATE:20280403
DTEND;VALUE=DATE:20280404
DTSTAMP:20260419T161650
CREATED:20230830T040756Z
LAST-MODIFIED:20230830T040756Z
UID:10000152-1838332800-1838419199@staging.ocfaonline.com
SUMMARY:Faculty Professional Development Meetings
DESCRIPTION:
URL:https://staging.ocfaonline.com/event/faculty-professional-development-meetings/2028-04-03/
END:VEVENT
BEGIN:VEVENT
DTSTART;VALUE=DATE:20280605
DTEND;VALUE=DATE:20280606
DTSTAMP:20260419T161650
CREATED:20230830T040756Z
LAST-MODIFIED:20230830T040756Z
UID:10000153-1843776000-1843862399@staging.ocfaonline.com
SUMMARY:Faculty Professional Development Meetings
DESCRIPTION:
URL:https://staging.ocfaonline.com/event/faculty-professional-development-meetings/2028-06-05/
END:VEVENT
BEGIN:VEVENT
DTSTART;VALUE=DATE:20280807
DTEND;VALUE=DATE:20280808
DTSTAMP:20260419T161650
CREATED:20230830T040756Z
LAST-MODIFIED:20230830T040756Z
UID:10000154-1849219200-1849305599@staging.ocfaonline.com
SUMMARY:Faculty Professional Development Meetings
DESCRIPTION:
URL:https://staging.ocfaonline.com/event/faculty-professional-development-meetings/2028-08-07/
END:VEVENT
END:VCALENDAR