BEGIN:VCALENDAR
VERSION:2.0
PRODID:-//Olds College Faculty Association - ECPv6.2.4//NONSGML v1.0//EN
CALSCALE:GREGORIAN
METHOD:PUBLISH
X-WR-CALNAME:Olds College Faculty Association
X-ORIGINAL-URL:https://staging.ocfaonline.com
X-WR-CALDESC:Events for Olds College Faculty Association
REFRESH-INTERVAL;VALUE=DURATION:PT1H
X-Robots-Tag:noindex
X-PUBLISHED-TTL:PT1H
BEGIN:VTIMEZONE
TZID:UTC
BEGIN:STANDARD
TZOFFSETFROM:+0000
TZOFFSETTO:+0000
TZNAME:UTC
DTSTART:20280101T000000
END:STANDARD
END:VTIMEZONE
BEGIN:VEVENT
DTSTART;VALUE=DATE:20280113
DTEND;VALUE=DATE:20280114
DTSTAMP:20260419T174419
CREATED:20230830T040430Z
LAST-MODIFIED:20230830T040430Z
UID:10000120-1831334400-1831420799@staging.ocfaonline.com
SUMMARY:OCFA Regular Meetings - Thursdays
DESCRIPTION:
URL:https://staging.ocfaonline.com/event/ocfa-regular-meetings-thursdays/2028-01-13/
END:VEVENT
BEGIN:VEVENT
DTSTART;VALUE=DATE:20280309
DTEND;VALUE=DATE:20280310
DTSTAMP:20260419T174419
CREATED:20230830T040430Z
LAST-MODIFIED:20230830T040430Z
UID:10000121-1836172800-1836259199@staging.ocfaonline.com
SUMMARY:OCFA Regular Meetings - Thursdays
DESCRIPTION:
URL:https://staging.ocfaonline.com/event/ocfa-regular-meetings-thursdays/2028-03-09/
END:VEVENT
BEGIN:VEVENT
DTSTART;VALUE=DATE:20280511
DTEND;VALUE=DATE:20280512
DTSTAMP:20260419T174419
CREATED:20230830T040430Z
LAST-MODIFIED:20230830T040430Z
UID:10000122-1841616000-1841702399@staging.ocfaonline.com
SUMMARY:OCFA Regular Meetings - Thursdays
DESCRIPTION:
URL:https://staging.ocfaonline.com/event/ocfa-regular-meetings-thursdays/2028-05-11/
END:VEVENT
BEGIN:VEVENT
DTSTART;VALUE=DATE:20280713
DTEND;VALUE=DATE:20280714
DTSTAMP:20260419T174419
CREATED:20230830T040430Z
LAST-MODIFIED:20230830T040430Z
UID:10000123-1847059200-1847145599@staging.ocfaonline.com
SUMMARY:OCFA Regular Meetings - Thursdays
DESCRIPTION:
URL:https://staging.ocfaonline.com/event/ocfa-regular-meetings-thursdays/2028-07-13/
END:VEVENT
END:VCALENDAR